BEGIN:VCALENDAR
VERSION:2.0
PRODID:-//Deutscher Harmonika-Verband - ECPv6.15.16.1//NONSGML v1.0//EN
CALSCALE:GREGORIAN
METHOD:PUBLISH
X-ORIGINAL-URL:https://dhv-bw.de
X-WR-CALDESC:Veranstaltungen für Deutscher Harmonika-Verband
REFRESH-INTERVAL;VALUE=DURATION:PT1H
X-Robots-Tag:noindex
X-PUBLISHED-TTL:PT1H
BEGIN:VTIMEZONE
TZID:Europe/Berlin
BEGIN:DAYLIGHT
TZOFFSETFROM:+0100
TZOFFSETTO:+0200
TZNAME:CEST
DTSTART:20250330T010000
END:DAYLIGHT
BEGIN:STANDARD
TZOFFSETFROM:+0200
TZOFFSETTO:+0100
TZNAME:CET
DTSTART:20251026T010000
END:STANDARD
BEGIN:DAYLIGHT
TZOFFSETFROM:+0100
TZOFFSETTO:+0200
TZNAME:CEST
DTSTART:20260329T010000
END:DAYLIGHT
BEGIN:STANDARD
TZOFFSETFROM:+0200
TZOFFSETTO:+0100
TZNAME:CET
DTSTART:20261025T010000
END:STANDARD
BEGIN:DAYLIGHT
TZOFFSETFROM:+0100
TZOFFSETTO:+0200
TZNAME:CEST
DTSTART:20270328T010000
END:DAYLIGHT
BEGIN:STANDARD
TZOFFSETFROM:+0200
TZOFFSETTO:+0100
TZNAME:CET
DTSTART:20271031T010000
END:STANDARD
END:VTIMEZONE
BEGIN:VEVENT
DTSTART;TZID=Europe/Berlin:20260509T100000
DTEND;TZID=Europe/Berlin:20260509T173000
DTSTAMP:20260424T150449
CREATED:20260217T120849Z
LAST-MODIFIED:20260217T120849Z
UID:7559-1778320800-1778347800@dhv-bw.de
SUMMARY:Social Media für Kinder- und Jugendensembles – Basics
DESCRIPTION:Wie können Kinder- und Jugendensembles Social Media effektiv nutzen? Nach einer fundierten Einführung in Plattformen\, Inhalte sowie rechtliche und ethische Aspekte erarbeiten die Teilnehmenden in einer Workshop-Phase praxisnah Strategien für ihren Auftritt. Ergänzend werden hilfreiche Tools vorgestellt\, die den Social-Media-Alltag als Teil der Öffentlichkeits- arbeit eines Amateurmusikvereins erleichtern. \nDen Teilnehmenden soll das nötige Wissen und praktische Fähigkeiten vermittelt werden\, um einen gelungenen und zielgerichteten Social-Media-Auftritt für Kinder- und Jugendensemble umzusetzen. Sie sollen die Potenziale und Grenzen verstehen\, Risiken und rechtliche Aspekte erkennen um mit konkreten Strategien sowie nützlichen Tools ins Chor- und Vereinsmarketing einzusteigen. \nWeitere Infos über Dozierende\, Inhalt\, Kosten sowie Anmeldung erhalten Sie hier.
URL:https://dhv-bw.de/event/social-media-fuer-kinder-und-jugendensembles-basics-2/
LOCATION:Musikzentrum Baden- Württemberg in Plochingen.\, Eisenbahnstraße 59\, 73207 Plochingen\, Plochingen\, Baden-Württemberg\, 73207\, Deutschland
CATEGORIES:Fortbildung,Seminar
END:VEVENT
END:VCALENDAR