BEGIN:VCALENDAR
VERSION:2.0
PRODID:-//Deutscher Harmonika-Verband - ECPv6.15.16.1//NONSGML v1.0//EN
CALSCALE:GREGORIAN
METHOD:PUBLISH
X-ORIGINAL-URL:https://dhv-bw.de
X-WR-CALDESC:Veranstaltungen für Deutscher Harmonika-Verband
REFRESH-INTERVAL;VALUE=DURATION:PT1H
X-Robots-Tag:noindex
X-PUBLISHED-TTL:PT1H
BEGIN:VTIMEZONE
TZID:Europe/Berlin
BEGIN:DAYLIGHT
TZOFFSETFROM:+0100
TZOFFSETTO:+0200
TZNAME:CEST
DTSTART:20240331T010000
END:DAYLIGHT
BEGIN:STANDARD
TZOFFSETFROM:+0200
TZOFFSETTO:+0100
TZNAME:CET
DTSTART:20241027T010000
END:STANDARD
BEGIN:DAYLIGHT
TZOFFSETFROM:+0100
TZOFFSETTO:+0200
TZNAME:CEST
DTSTART:20250330T010000
END:DAYLIGHT
BEGIN:STANDARD
TZOFFSETFROM:+0200
TZOFFSETTO:+0100
TZNAME:CET
DTSTART:20251026T010000
END:STANDARD
BEGIN:DAYLIGHT
TZOFFSETFROM:+0100
TZOFFSETTO:+0200
TZNAME:CEST
DTSTART:20260329T010000
END:DAYLIGHT
BEGIN:STANDARD
TZOFFSETFROM:+0200
TZOFFSETTO:+0100
TZNAME:CET
DTSTART:20261025T010000
END:STANDARD
END:VTIMEZONE
BEGIN:VEVENT
DTSTART;TZID=Europe/Berlin:20250916T190000
DTEND;TZID=Europe/Berlin:20250916T203000
DTSTAMP:20260421T133553
CREATED:20250728T072821Z
LAST-MODIFIED:20250728T072826Z
UID:7204-1758049200-1758054600@dhv-bw.de
SUMMARY:Flexibel\, kreativ\, kindgerecht: Arrangieren leicht gemacht
DESCRIPTION:Im Online-Seminar »Einrichten & Arrangieren für Kinder- und Jugend-Orchester« lernen Teilnehmende praxisnah\, wie man Literatur für verschiedene Besetzungen anpasst – ideal für Vereinsarbeit und Schulkooperationen. Themen sind u. a. das Erstellen von Zusatz- und Easy-Stimmen\, Arrangieren für Flex-Orchester\, Notensatzprogramme\, Playalongs sowie Einblicke in Genre- und Weltmusik. Der Kurs richtet sich an Musiker*innen mit Grundkenntnissen in Tonsatz und Harmonielehre. Dozent ist Stephan Müller\, erfahrener Musiker\, Komponist\, Ensembleleiter und Pädagoge. \nDas Seminar startet am 16.09.2025 und umfasst acht Online-Termine à 90 Minuten im Zweiwochenrhythmus. \nDie Teilnahmegebühr ist gestaffelt \nAnmeldeschluss ist der 31.08.2024 \nWeitere Infos finden Sie hier: Einrichten & Arrangieren für Kinder- und Jugend-Orchester\, Flex-Arrangements und vieles mehr! – DHV e.V.
URL:https://dhv-bw.de/event/flexibel-kreativ-kindgerecht-arrangieren-leicht-gemacht/
CATEGORIES:Seminar
ATTACH;FMTTYPE=image/jpeg:https://dhv-bw.de/wp-content/uploads/2025/07/Web_Einrichten-Arrangieren_neu.jpg
ORGANIZER;CN="DHV Landesverband Baden-W%C3%BCrttemberg e.V.":MAILTO:staufenberger@dhv-ev.de
END:VEVENT
END:VCALENDAR