BEGIN:VCALENDAR
VERSION:2.0
PRODID:-//Deutscher Harmonika-Verband - ECPv6.15.16.1//NONSGML v1.0//EN
CALSCALE:GREGORIAN
METHOD:PUBLISH
X-ORIGINAL-URL:https://dhv-bw.de
X-WR-CALDESC:Veranstaltungen für Deutscher Harmonika-Verband
REFRESH-INTERVAL;VALUE=DURATION:PT1H
X-Robots-Tag:noindex
X-PUBLISHED-TTL:PT1H
BEGIN:VTIMEZONE
TZID:Europe/Berlin
BEGIN:DAYLIGHT
TZOFFSETFROM:+0100
TZOFFSETTO:+0200
TZNAME:CEST
DTSTART:20240331T010000
END:DAYLIGHT
BEGIN:STANDARD
TZOFFSETFROM:+0200
TZOFFSETTO:+0100
TZNAME:CET
DTSTART:20241027T010000
END:STANDARD
BEGIN:DAYLIGHT
TZOFFSETFROM:+0100
TZOFFSETTO:+0200
TZNAME:CEST
DTSTART:20250330T010000
END:DAYLIGHT
BEGIN:STANDARD
TZOFFSETFROM:+0200
TZOFFSETTO:+0100
TZNAME:CET
DTSTART:20251026T010000
END:STANDARD
BEGIN:DAYLIGHT
TZOFFSETFROM:+0100
TZOFFSETTO:+0200
TZNAME:CEST
DTSTART:20260329T010000
END:DAYLIGHT
BEGIN:STANDARD
TZOFFSETFROM:+0200
TZOFFSETTO:+0100
TZNAME:CET
DTSTART:20261025T010000
END:STANDARD
END:VTIMEZONE
BEGIN:VEVENT
DTSTART;VALUE=DATE:20250628
DTEND;VALUE=DATE:20250629
DTSTAMP:20260421T103637
CREATED:20241024T135642Z
LAST-MODIFIED:20241024T135645Z
UID:6811-1751068800-1751155199@dhv-bw.de
SUMMARY:Landes-Musik-Festival
DESCRIPTION:Das nächste Landes-Musik-Festival findet am 28. Juni 2025 statt. Das Festival veranstaltet der Landesmusikverband Baden-Württemberg gemeinsam mit dem Bund Deutscher Blasmusikverbände e.V. und der Stadt Singen (Hohentwiel). Bald steht auch das Motto für das kommende musikalische Großereignis. Mitten in der Vulkanlandschaft des Hegaus\, direkt unter dem Hohentwiel\, empfängt Sie Singen mit einer der größten Burganlagen Deutschlands\, einer der schönsten Aussichten Baden-Württembergs. Singen bietet somit die perfekte Kulisse um die Musik\, die Kultur und die Natur in all ihrer Vielfalt hier 2025 zu feiern. Wir arbeiten mit Hochdruck am nächstjährigen Bühnen- und Rahmenprogramm. Die aktualisierte Version wird im Mai 2025 hier veröffentlicht. \nWeitere Informationen gibt es unter \nwww.landesmusikfestival.de
URL:https://dhv-bw.de/event/landes-musik-festival-2/
LOCATION:Landesmusikverband Baden-Württemberg
CATEGORIES:Akkordeon,Blasmusik
END:VEVENT
BEGIN:VEVENT
DTSTART;TZID=Europe/Berlin:20250628T100000
DTEND;TZID=Europe/Berlin:20250628T173000
DTSTAMP:20260421T103637
CREATED:20250417T105153Z
LAST-MODIFIED:20250417T105328Z
UID:7086-1751104800-1751131800@dhv-bw.de
SUMMARY:Auftakt Akkordeonensemble - Ran an die Tasten!
DESCRIPTION:Erwachsene Schülerinnen und Schüler erhalten ihren Instrumental-Unterricht an Musikschulen oft einzeln oder zu zweit. Spaß macht das Spielen eines Instrumentes aber vor allem zusammen mit anderen. Auch Wiedereinsteiger*innen musizieren gerne in Spielgruppen mit unterschiedlichen Besetzungen. In diesem Seminar können sich Musizierende aus Musikschulen und Vereinen in einem Ensemble zusammenfinden und das gemeinsame Musizieren entdecken. \nWeitere und wichtige Infos entnehmen Sie bitte der Website des DHV Dachverbandes \nwww.dhv-ev.de/events/auftakt-akkordeonensemble-ran-an-die-tasten/ \nhttps://www.dhv-ev.de/events/auftakt-akkordeonensemble-ran-an-die-tasten/
URL:https://dhv-bw.de/event/auftakt-akkordeonensemble-ran-an-die-tasten/
LOCATION:Musikschule Metzingen\, Nürtinger Straße 45\, Metzingen\, 72555\, Germany
CATEGORIES:Akkordeon,Ensembles,Seminar
ORGANIZER;CN="DHV Landesverband Baden-W%C3%BCrttemberg e.V.":MAILTO:staufenberger@dhv-ev.de
END:VEVENT
END:VCALENDAR