BEGIN:VCALENDAR
VERSION:2.0
PRODID:-//Deutscher Harmonika-Verband - ECPv6.15.16.1//NONSGML v1.0//EN
CALSCALE:GREGORIAN
METHOD:PUBLISH
X-ORIGINAL-URL:https://dhv-bw.de
X-WR-CALDESC:Veranstaltungen für Deutscher Harmonika-Verband
REFRESH-INTERVAL;VALUE=DURATION:PT1H
X-Robots-Tag:noindex
X-PUBLISHED-TTL:PT1H
BEGIN:VTIMEZONE
TZID:Europe/Berlin
BEGIN:DAYLIGHT
TZOFFSETFROM:+0100
TZOFFSETTO:+0200
TZNAME:CEST
DTSTART:20240331T010000
END:DAYLIGHT
BEGIN:STANDARD
TZOFFSETFROM:+0200
TZOFFSETTO:+0100
TZNAME:CET
DTSTART:20241027T010000
END:STANDARD
BEGIN:DAYLIGHT
TZOFFSETFROM:+0100
TZOFFSETTO:+0200
TZNAME:CEST
DTSTART:20250330T010000
END:DAYLIGHT
BEGIN:STANDARD
TZOFFSETFROM:+0200
TZOFFSETTO:+0100
TZNAME:CET
DTSTART:20251026T010000
END:STANDARD
BEGIN:DAYLIGHT
TZOFFSETFROM:+0100
TZOFFSETTO:+0200
TZNAME:CEST
DTSTART:20260329T010000
END:DAYLIGHT
BEGIN:STANDARD
TZOFFSETFROM:+0200
TZOFFSETTO:+0100
TZNAME:CET
DTSTART:20261025T010000
END:STANDARD
END:VTIMEZONE
BEGIN:VEVENT
DTSTART;VALUE=DATE:20250529
DTEND;VALUE=DATE:20250602
DTSTAMP:20260419T143923
CREATED:20240422T113402Z
LAST-MODIFIED:20240505T175413Z
UID:6460-1748476800-1748822399@dhv-bw.de
SUMMARY:World Music Festival 2025
DESCRIPTION:2025 ist es endlich wieder so weit – das World Music Festival findet wieder statt. Vom 29. Mai bis 1. Juni 2025 treffen sich in Innsbruck die weltweit besten Akkordeon-Orchester\, Mundharmonika- und Harmonika-Spieler*innen zu Wettbewerben\, Austausch\, hochkarätigen Konzerten und natürlich zum gemeinsamen Feiern. Erstmals wird auch der Harmonika-Verband Österreichs seinen Tag der Harmonika zeitgleich dort ausrichten. \nMerken Sie sich schon heute den Termin vor und lassen Sie sich das legendäre World Music Festival nicht entgehen. \nMehr dazu hier. \nWeitere Informationen auch auf der Website des DHV e.V.
URL:https://dhv-bw.de/event/world-music-festival-2025/
LOCATION:Innsbruck\, Österreich
CATEGORIES:Akkordeon,Mundharmonika,Orchester,Wettbewerb
ATTACH;FMTTYPE=image/jpeg:https://dhv-bw.de/wp-content/uploads/2024/04/world-music-festival-innsbruck-2025_wmf_logo_2025_4C_RZ.jpg
END:VEVENT
END:VCALENDAR