BEGIN:VCALENDAR
VERSION:2.0
PRODID:-//Deutscher Harmonika-Verband - ECPv6.15.16.1//NONSGML v1.0//EN
CALSCALE:GREGORIAN
METHOD:PUBLISH
X-ORIGINAL-URL:https://dhv-bw.de
X-WR-CALDESC:Veranstaltungen für Deutscher Harmonika-Verband
REFRESH-INTERVAL;VALUE=DURATION:PT1H
X-Robots-Tag:noindex
X-PUBLISHED-TTL:PT1H
BEGIN:VTIMEZONE
TZID:Europe/Berlin
BEGIN:DAYLIGHT
TZOFFSETFROM:+0100
TZOFFSETTO:+0200
TZNAME:CEST
DTSTART:20240331T010000
END:DAYLIGHT
BEGIN:STANDARD
TZOFFSETFROM:+0200
TZOFFSETTO:+0100
TZNAME:CET
DTSTART:20241027T010000
END:STANDARD
BEGIN:DAYLIGHT
TZOFFSETFROM:+0100
TZOFFSETTO:+0200
TZNAME:CEST
DTSTART:20250330T010000
END:DAYLIGHT
BEGIN:STANDARD
TZOFFSETFROM:+0200
TZOFFSETTO:+0100
TZNAME:CET
DTSTART:20251026T010000
END:STANDARD
BEGIN:DAYLIGHT
TZOFFSETFROM:+0100
TZOFFSETTO:+0200
TZNAME:CEST
DTSTART:20260329T010000
END:DAYLIGHT
BEGIN:STANDARD
TZOFFSETFROM:+0200
TZOFFSETTO:+0100
TZNAME:CET
DTSTART:20261025T010000
END:STANDARD
END:VTIMEZONE
BEGIN:VEVENT
DTSTART;TZID=Europe/Berlin:20250510T100000
DTEND;TZID=Europe/Berlin:20250510T183000
DTSTAMP:20260420T104733
CREATED:20250506T095344Z
LAST-MODIFIED:20250506T095344Z
UID:7102-1746871200-1746901800@dhv-bw.de
SUMMARY:Bezirkstreffen des DHV-Bezirks Breisgau mit Wertungsspiel für Orchester und Ensembles
DESCRIPTION:Weitere Informationen findet man auf der Website des DHV Bezirks Breisgau unter\nwww.dhv-breisgau.de/faszination-akkordeon-gemeinsam-erleben/
URL:https://dhv-bw.de/event/bezirkstreffen-des-dhv-bezirks-breisgau-mit-wertungsspiel-fuer-orchester-und-ensembles/
CATEGORIES:Akkordeon,Bezirkstreffen,Ensembles,Orchester
END:VEVENT
END:VCALENDAR